BEGIN:VCALENDAR
VERSION:2.0
PRODID:-//Gary Lee Wingard - ECPv6.15.20//NONSGML v1.0//EN
CALSCALE:GREGORIAN
METHOD:PUBLISH
X-WR-CALNAME:Gary Lee Wingard
X-ORIGINAL-URL:https://www.garyleewingard.com
X-WR-CALDESC:Events for Gary Lee Wingard
REFRESH-INTERVAL;VALUE=DURATION:PT1H
X-Robots-Tag:noindex
X-PUBLISHED-TTL:PT1H
BEGIN:VTIMEZONE
TZID:America/New_York
BEGIN:DAYLIGHT
TZOFFSETFROM:-0500
TZOFFSETTO:-0400
TZNAME:EDT
DTSTART:20190310T070000
END:DAYLIGHT
BEGIN:STANDARD
TZOFFSETFROM:-0400
TZOFFSETTO:-0500
TZNAME:EST
DTSTART:20191103T060000
END:STANDARD
BEGIN:DAYLIGHT
TZOFFSETFROM:-0500
TZOFFSETTO:-0400
TZNAME:EDT
DTSTART:20200308T070000
END:DAYLIGHT
BEGIN:STANDARD
TZOFFSETFROM:-0400
TZOFFSETTO:-0500
TZNAME:EST
DTSTART:20201101T060000
END:STANDARD
BEGIN:DAYLIGHT
TZOFFSETFROM:-0500
TZOFFSETTO:-0400
TZNAME:EDT
DTSTART:20210314T070000
END:DAYLIGHT
BEGIN:STANDARD
TZOFFSETFROM:-0400
TZOFFSETTO:-0500
TZNAME:EST
DTSTART:20211107T060000
END:STANDARD
END:VTIMEZONE
BEGIN:VEVENT
DTSTART;TZID=America/New_York:20200403T180000
DTEND;TZID=America/New_York:20200403T210000
DTSTAMP:20260423T201635
CREATED:20200303T013913Z
LAST-MODIFIED:20200303T013913Z
UID:269-1585936800-1585947600@www.garyleewingard.com
SUMMARY:Carerra Wine Cellar
DESCRIPTION:
URL:https://www.garyleewingard.com/events/carerra-wine-cellar/
LOCATION:Carrera Wine Cellar\, 35 San Marco Avenus\, Saint Augustine\, FL\, 32084\, United States
ORGANIZER;CN="Gary Lee Wingard":MAILTO:manager@garyleewingard.com
END:VEVENT
BEGIN:VEVENT
DTSTART;TZID=America/New_York:20200329T130000
DTEND;TZID=America/New_York:20200329T160000
DTSTAMP:20260423T201635
CREATED:20200207T180741Z
LAST-MODIFIED:20200324T224221Z
UID:234-1585486800-1585497600@www.garyleewingard.com
SUMMARY:European Village Afternoon Music
DESCRIPTION:Canceled for now! Vendors will be closed in the area.
URL:https://www.garyleewingard.com/events/european-village-afternoon-music/
LOCATION:European Village\, 101 Palm Harbor Pkwy\, Palm Coast\, FL\, 32137\, United States
END:VEVENT
BEGIN:VEVENT
DTSTART;TZID=America/New_York:20200327T180000
DTEND;TZID=America/New_York:20200327T210000
DTSTAMP:20260423T201635
CREATED:20200303T013756Z
LAST-MODIFIED:20200324T224035Z
UID:267-1585332000-1585342800@www.garyleewingard.com
SUMMARY:Carrera Wine Cellar
DESCRIPTION:Canceled for now! See their website for curb service times!
URL:https://www.garyleewingard.com/events/carrera-wine-cellar-5/
LOCATION:Carrera Wine Cellar\, 35 San Marco Avenus\, Saint Augustine\, FL\, 32084\, United States
ORGANIZER;CN="Gary Lee Wingard":MAILTO:manager@garyleewingard.com
END:VEVENT
BEGIN:VEVENT
DTSTART;TZID=America/New_York:20200307T180000
DTEND;TZID=America/New_York:20200307T210000
DTSTAMP:20260423T201635
CREATED:20200303T013625Z
LAST-MODIFIED:20200303T013644Z
UID:265-1583604000-1583614800@www.garyleewingard.com
SUMMARY:Carrera Wine Cellar
DESCRIPTION:
URL:https://www.garyleewingard.com/events/carrera-wine-cellar-4/
LOCATION:Carrera Wine Cellar\, 35 San Marco Avenus\, Saint Augustine\, FL\, 32084\, United States
ORGANIZER;CN="Gary Lee Wingard":MAILTO:manager@garyleewingard.com
END:VEVENT
BEGIN:VEVENT
DTSTART;TZID=America/New_York:20200301T130000
DTEND;TZID=America/New_York:20200301T160000
DTSTAMP:20260423T201635
CREATED:20200207T180146Z
LAST-MODIFIED:20200207T180146Z
UID:228-1583067600-1583078400@www.garyleewingard.com
SUMMARY:European Village Art Show
DESCRIPTION:
URL:https://www.garyleewingard.com/events/european-village-art-show/
LOCATION:European Village\, 101 Palm Harbor Pkwy\, Palm Coast\, FL\, 32137\, United States
END:VEVENT
BEGIN:VEVENT
DTSTART;TZID=America/New_York:20200229T060000
DTEND;TZID=America/New_York:20200229T210000
DTSTAMP:20260423T201635
CREATED:20200225T223404Z
LAST-MODIFIED:20200225T223404Z
UID:263-1582956000-1583010000@www.garyleewingard.com
SUMMARY:Carrera Wine Cellar
DESCRIPTION:
URL:https://www.garyleewingard.com/events/carrera-wine-cellar-3/
LOCATION:Carrera Wine Cellar\, 35 San Marco Avenus\, Saint Augustine\, FL\, 32084\, United States
ORGANIZER;CN="Gary Lee Wingard":MAILTO:manager@garyleewingard.com
END:VEVENT
BEGIN:VEVENT
DTSTART;TZID=America/New_York:20200228T053000
DTEND;TZID=America/New_York:20200228T190000
DTSTAMP:20260423T201635
CREATED:20200124T224343Z
LAST-MODIFIED:20200124T224343Z
UID:188-1582867800-1582916400@www.garyleewingard.com
SUMMARY:Cathedral Festival 2020 - Gary Lee Wingard's 7th Appearance
DESCRIPTION:
URL:https://www.garyleewingard.com/events/cathedral-festival-2020-gary-lee-wingards-7th-appearance/
LOCATION:FL
END:VEVENT
BEGIN:VEVENT
DTSTART;TZID=America/New_York:20200222T060000
DTEND;TZID=America/New_York:20200222T210000
DTSTAMP:20260423T201635
CREATED:20200123T204235Z
LAST-MODIFIED:20200207T183318Z
UID:173-1582351200-1582405200@www.garyleewingard.com
SUMMARY:Carrera Wine Cellar
DESCRIPTION:
URL:https://www.garyleewingard.com/events/carrera-wine-cellar-2/
LOCATION:Carrera Wine Cellar\, 35 San Marco Avenus\, Saint Augustine\, FL\, 32084\, United States
ORGANIZER;CN="Gary Lee Wingard":MAILTO:manager@garyleewingard.com
END:VEVENT
BEGIN:VEVENT
DTSTART;TZID=America/New_York:20200214T180000
DTEND;TZID=America/New_York:20200214T210000
DTSTAMP:20260423T201635
CREATED:20200123T203628Z
LAST-MODIFIED:20200214T205900Z
UID:170-1581703200-1581714000@www.garyleewingard.com
SUMMARY:Carrera Wine Cellar Music Wine for Your Valentine
DESCRIPTION:
URL:https://www.garyleewingard.com/events/carrera-wine-cellar-music-wine-and-nourishment/
LOCATION:Carrera Wine Cellar\, 35 San Marco Avenus\, Saint Augustine\, FL\, 32084\, United States
ORGANIZER;CN="Gary Lee Wingard":MAILTO:manager@garyleewingard.com
END:VEVENT
BEGIN:VEVENT
DTSTART;TZID=America/New_York:20200131T180000
DTEND;TZID=America/New_York:20200131T210000
DTSTAMP:20260423T201635
CREATED:20200123T005534Z
LAST-MODIFIED:20200123T203902Z
UID:165-1580493600-1580504400@www.garyleewingard.com
SUMMARY:Carrera Wine Cellar
DESCRIPTION:
URL:https://www.garyleewingard.com/events/carrera-wine-cellar/
LOCATION:Carrera Wine Cellar\, 35 San Marco Avenus\, Saint Augustine\, FL\, 32084\, United States
ORGANIZER;CN="Gary Lee Wingard":MAILTO:manager@garyleewingard.com
END:VEVENT
BEGIN:VEVENT
DTSTART;TZID=America/New_York:20200126T130000
DTEND;TZID=America/New_York:20200126T160000
DTSTAMP:20260423T201635
CREATED:20200122T231027Z
LAST-MODIFIED:20200123T203335Z
UID:157-1580043600-1580054400@www.garyleewingard.com
SUMMARY:Art\, Music\, Fun - Antoinette Cammarata\, Artist
DESCRIPTION:Great Artworks\, snacks\, beverages an music \nContact the Artist: \n\n\n\n\n\n\n\n\n\n\n\n\n\n\n\n\n\n\n\n\n\narton57st@gmail.com
URL:https://www.garyleewingard.com/events/art-music-fun-antoinette-cammarata-artist/
LOCATION:Antoinette Cammarata’s 1st Open Studio\, 10411 McLaurin Road East\, Jacksonville\, FL 32256\, 10411 McLurin Road East\, Jacksonville\, FL\, 32256\, United States
ORGANIZER;CN="Gary Lee Wingard":MAILTO:manager@garyleewingard.com
END:VEVENT
BEGIN:VEVENT
DTSTART;TZID=America/New_York:20200125T060000
DTEND;TZID=America/New_York:20200125T210000
DTSTAMP:20260423T201635
CREATED:20200122T225507Z
LAST-MODIFIED:20200122T225507Z
UID:152-1579932000-1579986000@www.garyleewingard.com
SUMMARY:Carara Wine Cellar
DESCRIPTION:Join us for Wine Tasting Food and Music\nAlways a great time and great wines!
URL:https://www.garyleewingard.com/events/carara-wine-cellar/
LOCATION:Carrera Wine Cellar\, 35 San Marco Avenus\, Saint Augustine\, FL\, 32084\, United States
ORGANIZER;CN="Gary Lee Wingard":MAILTO:manager@garyleewingard.com
END:VEVENT
END:VCALENDAR