BEGIN:VCALENDAR
VERSION:2.0
PRODID:-//Gary Lee Wingard - ECPv6.15.20//NONSGML v1.0//EN
CALSCALE:GREGORIAN
METHOD:PUBLISH
X-ORIGINAL-URL:https://www.garyleewingard.com
X-WR-CALDESC:Events for Gary Lee Wingard
REFRESH-INTERVAL;VALUE=DURATION:PT1H
X-Robots-Tag:noindex
X-PUBLISHED-TTL:PT1H
BEGIN:VTIMEZONE
TZID:America/New_York
BEGIN:DAYLIGHT
TZOFFSETFROM:-0500
TZOFFSETTO:-0400
TZNAME:EDT
DTSTART:20200308T070000
END:DAYLIGHT
BEGIN:STANDARD
TZOFFSETFROM:-0400
TZOFFSETTO:-0500
TZNAME:EST
DTSTART:20201101T060000
END:STANDARD
BEGIN:DAYLIGHT
TZOFFSETFROM:-0500
TZOFFSETTO:-0400
TZNAME:EDT
DTSTART:20210314T070000
END:DAYLIGHT
BEGIN:STANDARD
TZOFFSETFROM:-0400
TZOFFSETTO:-0500
TZNAME:EST
DTSTART:20211107T060000
END:STANDARD
BEGIN:DAYLIGHT
TZOFFSETFROM:-0500
TZOFFSETTO:-0400
TZNAME:EDT
DTSTART:20220313T070000
END:DAYLIGHT
BEGIN:STANDARD
TZOFFSETFROM:-0400
TZOFFSETTO:-0500
TZNAME:EST
DTSTART:20221106T060000
END:STANDARD
BEGIN:DAYLIGHT
TZOFFSETFROM:-0500
TZOFFSETTO:-0400
TZNAME:EDT
DTSTART:20230312T070000
END:DAYLIGHT
BEGIN:STANDARD
TZOFFSETFROM:-0400
TZOFFSETTO:-0500
TZNAME:EST
DTSTART:20231105T060000
END:STANDARD
BEGIN:DAYLIGHT
TZOFFSETFROM:-0500
TZOFFSETTO:-0400
TZNAME:EDT
DTSTART:20240310T070000
END:DAYLIGHT
BEGIN:STANDARD
TZOFFSETFROM:-0400
TZOFFSETTO:-0500
TZNAME:EST
DTSTART:20241103T060000
END:STANDARD
BEGIN:DAYLIGHT
TZOFFSETFROM:-0500
TZOFFSETTO:-0400
TZNAME:EDT
DTSTART:20250309T070000
END:DAYLIGHT
BEGIN:STANDARD
TZOFFSETFROM:-0400
TZOFFSETTO:-0500
TZNAME:EST
DTSTART:20251102T060000
END:STANDARD
BEGIN:DAYLIGHT
TZOFFSETFROM:-0500
TZOFFSETTO:-0400
TZNAME:EDT
DTSTART:20260308T070000
END:DAYLIGHT
BEGIN:STANDARD
TZOFFSETFROM:-0400
TZOFFSETTO:-0500
TZNAME:EST
DTSTART:20261101T060000
END:STANDARD
BEGIN:DAYLIGHT
TZOFFSETFROM:-0500
TZOFFSETTO:-0400
TZNAME:EDT
DTSTART:20270314T070000
END:DAYLIGHT
BEGIN:STANDARD
TZOFFSETFROM:-0400
TZOFFSETTO:-0500
TZNAME:EST
DTSTART:20271107T060000
END:STANDARD
END:VTIMEZONE
BEGIN:VEVENT
DTSTART;TZID=America/New_York:20260220T170000
DTEND;TZID=America/New_York:20260220T180000
DTSTAMP:20260423T115339
CREATED:20260119T145507Z
LAST-MODIFIED:20260119T145507Z
UID:548-1771606800-1771610400@www.garyleewingard.com
SUMMARY:CPS Festival 2026
DESCRIPTION:Gary Lee Wingard Returns for the Longest Running Musician performing at the CPS Festival: 2013-2026
URL:https://www.garyleewingard.com/events/cps-festival-2026/
LOCATION:Cathedral Festival – Catch The Thrill\, 89 A1A Scenic and Historic Coastal Byway\, Saint Augustine\, FL\, 32086\, United States
END:VEVENT
BEGIN:VEVENT
DTSTART;TZID=America/New_York:20250221T170000
DTEND;TZID=America/New_York:20250221T181500
DTSTAMP:20260423T115339
CREATED:20250120T152349Z
LAST-MODIFIED:20250120T152349Z
UID:530-1740157200-1740161700@www.garyleewingard.com
SUMMARY:Gary Lee Wingard Returns for the Longest Running Musician performing at the CPS Festival: 2013-2025
DESCRIPTION:
URL:https://www.garyleewingard.com/events/gary-lee-wingard-returns-for-the-longest-running-musician-performing-at-the-cps-festival-2013-2025/
LOCATION:Cathedral Festival – Catch The Thrill\, 89 A1A Scenic and Historic Coastal Byway\, Saint Augustine\, FL\, 32086\, United States
END:VEVENT
BEGIN:VEVENT
DTSTART;TZID=America/New_York:20240223T170000
DTEND;TZID=America/New_York:20240223T181500
DTSTAMP:20260423T115339
CREATED:20240105T184428Z
LAST-MODIFIED:20240105T184910Z
UID:507-1708707600-1708712100@www.garyleewingard.com
SUMMARY:Gary Lee Wingard Returns for the Longest Running Musician performing at the CPS Festival: 2013-2024
DESCRIPTION:There is always so much more to see and fun to have at the Festival!  \nRides! Meal deals! Music! Games! and More!
URL:https://www.garyleewingard.com/events/gary-lee-wingard-returns-for-the-longest-running-musician-performing-at-the-cps-festival-2013-2024/
LOCATION:Cathedral Festival – Catch The Thrill\, 89 A1A Scenic and Historic Coastal Byway\, Saint Augustine\, FL\, 32086\, United States
END:VEVENT
BEGIN:VEVENT
DTSTART;TZID=America/New_York:20231201T183000
DTEND;TZID=America/New_York:20231201T210000
DTSTAMP:20260423T115339
CREATED:20231109T202446Z
LAST-MODIFIED:20231109T202446Z
UID:502-1701455400-1701464400@www.garyleewingard.com
SUMMARY:Private Military Retirement Celebration
DESCRIPTION:Cover Artwork for Gary Lee Wingard’s Album: Once There Was A Man
URL:https://www.garyleewingard.com/events/private-military-retirement-celebration/
LOCATION:FL
END:VEVENT
BEGIN:VEVENT
DTSTART;TZID=America/New_York:20230704T140000
DTEND;TZID=America/New_York:20230704T160000
DTSTAMP:20260423T115339
CREATED:20230102T210948Z
LAST-MODIFIED:20230102T210948Z
UID:469-1688479200-1688486400@www.garyleewingard.com
SUMMARY:4th of July Live with GARY LEE WINGARD
DESCRIPTION:………Patriotic Music and More…….       Whiskey Point Campground\nAfter the Parade!\nTuesday July 4th\, 2023\, Anchor Point\, Keni Peninsula\, Alaska
URL:https://www.garyleewingard.com/events/4th-of-july-live-with-gary-lee-wingard/
LOCATION:Whiskey Point\, 30475 Sterling Highway\, Anchor Point\, AK\, 99556\, United States
ORGANIZER;CN="Carolyn D. Wingard":MAILTO:manager@garyleewingard.com
END:VEVENT
BEGIN:VEVENT
DTSTART;TZID=America/New_York:20230626T180000
DTEND;TZID=America/New_York:20230626T200000
DTSTAMP:20260423T115339
CREATED:20230119T000740Z
LAST-MODIFIED:20230626T000740Z
UID:480-1687802400-1687809600@www.garyleewingard.com
SUMMARY:Gary Lee Wingard Live at the Ranch House
DESCRIPTION:The Return of Gary Lee Wingard at the Ranch house at Glenn Allen
URL:https://www.garyleewingard.com/events/gary-lee-wingard-live-at-the-ranch-house/
LOCATION:Ranch House Lodge & RV Camping\, Mile 173 Glenn Hwy\, Glenalle\, AK 99588\, Mile 173\, Glennallen\, AK\, 99588\, United States
ORGANIZER;CN="Carolyn D. Wingard":MAILTO:manager@garyleewingard.com
END:VEVENT
BEGIN:VEVENT
DTSTART;TZID=America/New_York:20230624T170000
DTEND;TZID=America/New_York:20230624T190000
DTSTAMP:20260423T115339
CREATED:20230119T003449Z
LAST-MODIFIED:20230121T195835Z
UID:483-1687626000-1687633200@www.garyleewingard.com
SUMMARY:Gary Lee Wingard Live at the Tundra
DESCRIPTION:Saturday night June 24
URL:https://www.garyleewingard.com/events/gary-lee-wingard-live-at-the-tunda/
LOCATION:FL
ORGANIZER;CN="Carolyn D. Wingard":MAILTO:manager@garyleewingard.com
END:VEVENT
BEGIN:VEVENT
DTSTART;TZID=America/New_York:20230329T110000
DTEND;TZID=America/New_York:20230329T140000
DTSTAMP:20260423T115339
CREATED:20230301T004022Z
LAST-MODIFIED:20230301T004253Z
UID:497-1680087600-1680098400@www.garyleewingard.com
SUMMARY:VVA Day Live Music at the American Legion
DESCRIPTION:Gary Lee Wigard Live at the VVA Day Event
URL:https://www.garyleewingard.com/events/vva-day-live-music-at-the-american-legion/
LOCATION:American Legion Post 194\, 1029 Pearl Street\, Saint Augustine\, FL\, 32084\, United States
END:VEVENT
BEGIN:VEVENT
DTSTART;TZID=America/New_York:20230317T180000
DTEND;TZID=America/New_York:20230317T200000
DTSTAMP:20260423T115339
CREATED:20230114T021147Z
LAST-MODIFIED:20230114T021635Z
UID:475-1679076000-1679083200@www.garyleewingard.com
SUMMARY:Saint Patric's Day Live Music at the Renaissance Golf World Village
DESCRIPTION:Privat Event For Enlisted Association National Guard Florida\nGary Lee Wingard Live Music for Area III Caucus Event
URL:https://www.garyleewingard.com/events/saint-patrics-day-live-music-at-the-renaissance-gold-world-village/
LOCATION:ENGAF\, 500 S. Legacy Trail\, Saint Augustine\, FL\, 32092\, United States
END:VEVENT
BEGIN:VEVENT
DTSTART;TZID=America/New_York:20230224T170000
DTEND;TZID=America/New_York:20230224T180000
DTSTAMP:20260423T115339
CREATED:20230102T202727Z
LAST-MODIFIED:20230102T202727Z
UID:467-1677258000-1677261600@www.garyleewingard.com
SUMMARY:2023 CPS Festival
DESCRIPTION:Gary Lee Wingard\nLive Opening Act for over 10 years!
URL:https://www.garyleewingard.com/events/2023-cps-festival/
LOCATION:Cathedral Festival – Catch The Thrill\, 89 A1A Scenic and Historic Coastal Byway\, Saint Augustine\, FL\, 32086\, United States
END:VEVENT
BEGIN:VEVENT
DTSTART;TZID=America/New_York:20221217T160000
DTEND;TZID=America/New_York:20221217T200000
DTSTAMP:20260423T115339
CREATED:20221203T235316Z
LAST-MODIFIED:20221203T235444Z
UID:447-1671292800-1671307200@www.garyleewingard.com
SUMMARY:Diamond Jubilee 75th Birthday Celebration for Carolyn Wingard
DESCRIPTION:Three Generations: Carolyn\, Daughter Cindy\, Grand daughters Chelsea and Lindsey
URL:https://www.garyleewingard.com/events/diamond-jubilee-75th-birthday-celebration-for-carolyn-wingard/
LOCATION:Lance Armory\, 190 San Marco Ave.\, Saint Augustine\, FL\, 32084\, United States
ORGANIZER;CN="Carolyn D. Wingard":MAILTO:manager@garyleewingard.com
END:VEVENT
BEGIN:VEVENT
DTSTART;TZID=America/New_York:20220827T193000
DTEND;TZID=America/New_York:20220827T210000
DTSTAMP:20260423T115339
CREATED:20220717T205603Z
LAST-MODIFIED:20220717T210356Z
UID:421-1661628600-1661634000@www.garyleewingard.com
SUMMARY:TRHS Class of '70 Birthday Celebration
DESCRIPTION:  \nHappy 70th Birthday to ALL Class of 1970
URL:https://www.garyleewingard.com/events/trhs-class-of-70-birthday-celebration/
LOCATION:America Legion Post 496\, 1946 Mogadore Road\, Kent\, 44240\, United States
ORGANIZER;CN="Portia Blosser":MAILTO:portiakg@yahoo.com
END:VEVENT
BEGIN:VEVENT
DTSTART;TZID=America/New_York:20220722T180000
DTEND;TZID=America/New_York:20220722T200000
DTSTAMP:20260423T115339
CREATED:20220722T191655Z
LAST-MODIFIED:20220722T192126Z
UID:431-1658512800-1658520000@www.garyleewingard.com
SUMMARY:Live Music with Gary Lee Wingard
DESCRIPTION:  \nLive at the Campground Pavilion \n 
URL:https://www.garyleewingard.com/events/live-music-with-gary-lee-wingard/
LOCATION:Timberline Campgroud\, 31635 Ashworth Road\, Waukee\, IA\, 50263\, United States
ORGANIZER;CN="Carolyn D. Wingard":MAILTO:manager@garyleewingard.com
END:VEVENT
BEGIN:VEVENT
DTSTART;TZID=America/New_York:20220715T180000
DTEND;TZID=America/New_York:20220715T200000
DTSTAMP:20260423T115339
CREATED:20220715T210434Z
LAST-MODIFIED:20220715T210434Z
UID:413-1657908000-1657915200@www.garyleewingard.com
SUMMARY:Live Music Tonight
DESCRIPTION:  \n  \nGary Lee Wingard – Live Tonight
URL:https://www.garyleewingard.com/events/live-music-tonight/
LOCATION:Madiso KO\, 4859 Co Rd V\, DeForest\, WI\, 53532\, United States
END:VEVENT
BEGIN:VEVENT
DTSTART;TZID=America/New_York:20220604T180000
DTEND;TZID=America/New_York:20220604T203000
DTSTAMP:20260423T115339
CREATED:20220715T211852Z
LAST-MODIFIED:20220715T211852Z
UID:418-1654365600-1654374600@www.garyleewingard.com
SUMMARY:Live Music - Gary Lee Wingard
DESCRIPTION:  \nCome Listen to Gary Lee Wingard Live!
URL:https://www.garyleewingard.com/events/live-music-gary-lee-wingard/
LOCATION:Augusta West Campground\, 183 Holmes Brook Lane\, Winthrop\, ME\, 04364\, United States
END:VEVENT
BEGIN:VEVENT
DTSTART;TZID=America/New_York:20220416T180000
DTEND;TZID=America/New_York:20220416T223000
DTSTAMP:20260423T115339
CREATED:20220131T170918Z
LAST-MODIFIED:20220131T170918Z
UID:401-1650132000-1650148200@www.garyleewingard.com
SUMMARY:Evening Music at the European Village
DESCRIPTION:
URL:https://www.garyleewingard.com/events/evening-music-at-the-european-village/
LOCATION:European Village\, 101 Palm Harbor Pkwy\, Palm Coast\, FL\, 32137\, United States
ORGANIZER;CN="Liz":MAILTO:redonion@redonion.com
END:VEVENT
BEGIN:VEVENT
DTSTART;TZID=America/New_York:20220329T120000
DTEND;TZID=America/New_York:20220329T140000
DTSTAMP:20260423T115339
CREATED:20220316T192153Z
LAST-MODIFIED:20220316T192153Z
UID:406-1648555200-1648562400@www.garyleewingard.com
SUMMARY:Vietnam Veterans Day Welcome Home Cookout
DESCRIPTION:
URL:https://www.garyleewingard.com/events/vietnam-veterans-day-welcome-home-cookout/
LOCATION:American Legion Post 194\, 1029 Pearl Street\, Saint Augustine\, FL\, 32084\, United States
END:VEVENT
BEGIN:VEVENT
DTSTART;TZID=America/New_York:20220225T170000
DTEND;TZID=America/New_York:20220225T180000
DTSTAMP:20260423T115339
CREATED:20220131T170205Z
LAST-MODIFIED:20220131T170205Z
UID:397-1645808400-1645812000@www.garyleewingard.com
SUMMARY:2022 CPS Festival
DESCRIPTION:
URL:https://www.garyleewingard.com/events/2022-cps-festival/
LOCATION:Cathedral Festival – Catch The Thrill\, 89 A1A Scenic and Historic Coastal Byway\, Saint Augustine\, FL\, 32086\, United States
END:VEVENT
BEGIN:VEVENT
DTSTART;TZID=America/New_York:20220220T150000
DTEND;TZID=America/New_York:20220220T180000
DTSTAMP:20260423T115339
CREATED:20211111T170817Z
LAST-MODIFIED:20220208T214149Z
UID:382-1645369200-1645380000@www.garyleewingard.com
SUMMARY:Afternoon Music at the European Village
DESCRIPTION:Rescheduled from Saturday Night to Sunday Afternoon
URL:https://www.garyleewingard.com/events/382/
LOCATION:European Village\, 101 Palm Harbor Pkwy\, Palm Coast\, FL\, 32137\, United States
ORGANIZER;CN="Liz":MAILTO:redonion@redonion.com
END:VEVENT
BEGIN:VEVENT
DTSTART;TZID=America/New_York:20220108T173000
DTEND;TZID=America/New_York:20220108T210000
DTSTAMP:20260423T115339
CREATED:20211002T231207Z
LAST-MODIFIED:20211116T174453Z
UID:375-1641663000-1641675600@www.garyleewingard.com
SUMMARY:PVT Party - Jane Dennis
DESCRIPTION:Transportation issues no longer restricted me from performing. Can’t wait to get to AZ!!
URL:https://www.garyleewingard.com/events/pvt-party-jane-dennis/
LOCATION:Santan Valley\, Santan Valley\, AZ\, United States
END:VEVENT
BEGIN:VEVENT
DTSTART;TZID=America/New_York:20211231T190000
DTEND;TZID=America/New_York:20211231T210000
DTSTAMP:20260423T115339
CREATED:20211214T220944Z
LAST-MODIFIED:20211214T220944Z
UID:392-1640977200-1640984400@www.garyleewingard.com
SUMMARY:New Year's Eve Live Music
DESCRIPTION:
URL:https://www.garyleewingard.com/events/new-years-eve-live-music/
LOCATION:Canton Tx KOA\, 13785 State Hwy 19\, Canton\, TX\, 75103\, United States
ORGANIZER;CN="Carolyn D. Wingard":MAILTO:manager@garyleewingard.com
END:VEVENT
BEGIN:VEVENT
DTSTART;TZID=America/New_York:20211016T190000
DTEND;TZID=America/New_York:20211016T200000
DTSTAMP:20260423T115339
CREATED:20211002T183925Z
LAST-MODIFIED:20211007T144258Z
UID:371-1634410800-1634414400@www.garyleewingard.com
SUMMARY:Class of 1970 RHS Reunion
DESCRIPTION:Transportation issues have restricted me from performing this event. So Sorry!
URL:https://www.garyleewingard.com/events/class-of-1970-rhs-reunion/
LOCATION:Class of ’70 RHS Reunion\, 1945 Mogadore Road\, Kent\, OH\, 44240\, United States
ORGANIZER;CN="Portia Blosser":MAILTO:portiakg@yahoo.com
END:VEVENT
BEGIN:VEVENT
DTSTART;TZID=America/New_York:20210709T170000
DTEND;TZID=America/New_York:20210709T190000
DTSTAMP:20260423T115339
CREATED:20210411T210632Z
LAST-MODIFIED:20210411T210632Z
UID:356-1625850000-1625857200@www.garyleewingard.com
SUMMARY:Trapper Creek RV Park
DESCRIPTION:
URL:https://www.garyleewingard.com/events/trapper-creek-rv-park/
LOCATION:Trapper Creek Inn and RV Park\, Mile 114.6 George Parks Highway\, Trapper Creek\, AK\, 99683\, United States
ORGANIZER;CN="Carolyn D. Wingard":MAILTO:manager@garyleewingard.com
END:VEVENT
BEGIN:VEVENT
DTSTART;TZID=America/New_York:20210705T180000
DTEND;TZID=America/New_York:20210705T200000
DTSTAMP:20260423T115339
CREATED:20210411T210616Z
LAST-MODIFIED:20210411T210616Z
UID:352-1625508000-1625515200@www.garyleewingard.com
SUMMARY:Seaview Cafe & RV Park
DESCRIPTION:
URL:https://www.garyleewingard.com/events/seaview-cafe-rv-park/
LOCATION:Seaview Cafe & RV Park\, Main Street\, Hope\, AK\, 99605\, United States
END:VEVENT
BEGIN:VEVENT
DTSTART;TZID=America/New_York:20210704T160000
DTEND;TZID=America/New_York:20210704T180000
DTSTAMP:20260423T115339
CREATED:20210411T203324Z
LAST-MODIFIED:20210411T203530Z
UID:347-1625414400-1625421600@www.garyleewingard.com
SUMMARY:Whiskey Point RV
DESCRIPTION:
URL:https://www.garyleewingard.com/events/whiskey-point-rv/
LOCATION:Whiskey Point\, 30475 Sterling Highway\, Anchor Point\, AK\, 99556\, United States
ORGANIZER;CN="Carolyn D. Wingard":MAILTO:manager@garyleewingard.com
END:VEVENT
BEGIN:VEVENT
DTSTART;TZID=America/New_York:20210626T160000
DTEND;TZID=America/New_York:20210626T180000
DTSTAMP:20260423T115339
CREATED:20210411T202102Z
LAST-MODIFIED:20210411T202102Z
UID:343-1624723200-1624730400@www.garyleewingard.com
SUMMARY:(PVT) House Concert - by invitation only
DESCRIPTION:
URL:https://www.garyleewingard.com/events/pvt-house-concert-by-invitation-only/
LOCATION:Big Lake AK\, 9220 S. Big Lake Rd.\, Wasilla\, AK\, 9220 S. Big Lake Rd\, Wasilla\, 99623\, United States
ORGANIZER;CN="Carolyn D. Wingard":MAILTO:manager@garyleewingard.com
END:VEVENT
BEGIN:VEVENT
DTSTART;TZID=America/New_York:20210623T180000
DTEND;TZID=America/New_York:20210623T200000
DTSTAMP:20260423T115339
CREATED:20210411T200855Z
LAST-MODIFIED:20210411T200855Z
UID:339-1624471200-1624478400@www.garyleewingard.com
SUMMARY:Ranch House Resort
DESCRIPTION:
URL:https://www.garyleewingard.com/events/ranch-house-resort/
LOCATION:Ranch House Lodge & RV Camping\, Mile 173 Glenn Hwy\, Glenalle\, AK 99588\, Mile 173\, Glennallen\, AK\, 99588\, United States
END:VEVENT
BEGIN:VEVENT
DTSTART;TZID=America/New_York:20210618T160000
DTEND;TZID=America/New_York:20210618T180000
DTSTAMP:20260423T115339
CREATED:20210411T200042Z
LAST-MODIFIED:20210411T200042Z
UID:331-1624032000-1624039200@www.garyleewingard.com
SUMMARY:Chicken Gold Camp
DESCRIPTION:
URL:https://www.garyleewingard.com/events/chicken-gold-camp/
LOCATION:Chicken Gold Camp & Outpost\, Chicke A 99732\, Chicken\, AK\, 99732\, United States
END:VEVENT
BEGIN:VEVENT
DTSTART;TZID=America/New_York:20210610T230000
DTEND;TZID=America/New_York:20210611T010000
DTSTAMP:20260423T115339
CREATED:20210610T005104Z
LAST-MODIFIED:20210610T010758Z
UID:363-1623366000-1623373200@www.garyleewingard.com
SUMMARY:Red Onion Thursday Night Special
DESCRIPTION:Thursday Night 7:00-9:00   June 10\, 2021 \nTraveling Through Canada Blues
URL:https://www.garyleewingard.com/events/red-onion-thursday-night-special/
LOCATION:Red Onion\, 201 Broadway\, Skagway\, 99840\, United States
ORGANIZER;CN="Liz":MAILTO:redonion@redonion.com
END:VEVENT
BEGIN:VEVENT
DTSTART;TZID=America/New_York:20210331T180000
DTEND;TZID=America/New_York:20210331T210000
DTSTAMP:20260423T115339
CREATED:20210301T182305Z
LAST-MODIFIED:20210301T182305Z
UID:319-1617213600-1617224400@www.garyleewingard.com
SUMMARY:OLD COAST ALES - "LIVE"  WITH GARY LEE WINGARD
DESCRIPTION:
URL:https://www.garyleewingard.com/events/old-coast-ales-live-with-gary-lee-wingard/
LOCATION:Old Coast Ales\, 300 Anastasia Blvd.\, Saint Augustine\, FL\, 32080\, United States
ORGANIZER;CN="Matt Hooker":MAILTO:matt@oldcoastales.com
END:VEVENT
END:VCALENDAR